BEGIN:VCALENDAR
VERSION:2.0
PRODID:-//West Brookfield Historical Commission - ECPv6.15.20//NONSGML v1.0//EN
CALSCALE:GREGORIAN
METHOD:PUBLISH
X-WR-CALNAME:West Brookfield Historical Commission
X-ORIGINAL-URL:https://westbrookfield.org
X-WR-CALDESC:Events for West Brookfield Historical Commission
REFRESH-INTERVAL;VALUE=DURATION:PT1H
X-Robots-Tag:noindex
X-PUBLISHED-TTL:PT1H
BEGIN:VTIMEZONE
TZID:America/New_York
BEGIN:DAYLIGHT
TZOFFSETFROM:-0500
TZOFFSETTO:-0400
TZNAME:EDT
DTSTART:20180311T070000
END:DAYLIGHT
BEGIN:STANDARD
TZOFFSETFROM:-0400
TZOFFSETTO:-0500
TZNAME:EST
DTSTART:20181104T060000
END:STANDARD
BEGIN:DAYLIGHT
TZOFFSETFROM:-0500
TZOFFSETTO:-0400
TZNAME:EDT
DTSTART:20190310T070000
END:DAYLIGHT
BEGIN:STANDARD
TZOFFSETFROM:-0400
TZOFFSETTO:-0500
TZNAME:EST
DTSTART:20191103T060000
END:STANDARD
BEGIN:DAYLIGHT
TZOFFSETFROM:-0500
TZOFFSETTO:-0400
TZNAME:EDT
DTSTART:20200308T070000
END:DAYLIGHT
BEGIN:STANDARD
TZOFFSETFROM:-0400
TZOFFSETTO:-0500
TZNAME:EST
DTSTART:20201101T060000
END:STANDARD
BEGIN:DAYLIGHT
TZOFFSETFROM:-0500
TZOFFSETTO:-0400
TZNAME:EDT
DTSTART:20210314T070000
END:DAYLIGHT
BEGIN:STANDARD
TZOFFSETFROM:-0400
TZOFFSETTO:-0500
TZNAME:EST
DTSTART:20211107T060000
END:STANDARD
BEGIN:DAYLIGHT
TZOFFSETFROM:-0500
TZOFFSETTO:-0400
TZNAME:EDT
DTSTART:20220313T070000
END:DAYLIGHT
BEGIN:STANDARD
TZOFFSETFROM:-0400
TZOFFSETTO:-0500
TZNAME:EST
DTSTART:20221106T060000
END:STANDARD
BEGIN:DAYLIGHT
TZOFFSETFROM:-0500
TZOFFSETTO:-0400
TZNAME:EDT
DTSTART:20230312T070000
END:DAYLIGHT
BEGIN:STANDARD
TZOFFSETFROM:-0400
TZOFFSETTO:-0500
TZNAME:EST
DTSTART:20231105T060000
END:STANDARD
BEGIN:DAYLIGHT
TZOFFSETFROM:-0500
TZOFFSETTO:-0400
TZNAME:EDT
DTSTART:20240310T070000
END:DAYLIGHT
BEGIN:STANDARD
TZOFFSETFROM:-0400
TZOFFSETTO:-0500
TZNAME:EST
DTSTART:20241103T060000
END:STANDARD
BEGIN:DAYLIGHT
TZOFFSETFROM:-0500
TZOFFSETTO:-0400
TZNAME:EDT
DTSTART:20250309T070000
END:DAYLIGHT
BEGIN:STANDARD
TZOFFSETFROM:-0400
TZOFFSETTO:-0500
TZNAME:EST
DTSTART:20251102T060000
END:STANDARD
END:VTIMEZONE
BEGIN:VEVENT
DTSTART;TZID=America/New_York:20240518T100000
DTEND;TZID=America/New_York:20240518T150000
DTSTAMP:20260421T214544
CREATED:20240505T031750Z
LAST-MODIFIED:20240505T031750Z
UID:2667-1716026400-1716044400@westbrookfield.org
SUMMARY:The 37th Annual Asparagus & Flower Heritage Festival
DESCRIPTION:Our beloved asparagus and flower heritage festival will be held on May 18th from 10 am to 3 pm on the West Brookfield Town Common\, rain or shine. \nSupport your local farmers\, growers\, creators\, and business owners. \nLet us celebrate what makes our rural community so special!
URL:https://westbrookfield.org/event/the-37th-annual-asparagus-flower-heritage-festival/
LOCATION:West Brookfield Common\, West Brookfield\, MA\, 01585\, United States
END:VEVENT
BEGIN:VEVENT
DTSTART;TZID=America/New_York:20191202T183000
DTEND;TZID=America/New_York:20191202T203000
DTSTAMP:20260421T214544
CREATED:20190905T164748Z
LAST-MODIFIED:20191116T180126Z
UID:2166-1575311400-1575318600@westbrookfield.org
SUMMARY:Commission Meeting
DESCRIPTION:
URL:https://westbrookfield.org/event/commission-meeting-4/
LOCATION:Town Hall\, West Brookfield\, MA\, 01585\, United States
CATEGORIES:Regular Meetings
END:VEVENT
BEGIN:VEVENT
DTSTART;TZID=America/New_York:20191104T183000
DTEND;TZID=America/New_York:20191104T203000
DTSTAMP:20260421T214544
CREATED:20190622T202335Z
LAST-MODIFIED:20191030T143422Z
UID:2017-1572892200-1572899400@westbrookfield.org
SUMMARY:Commission Meeting
DESCRIPTION:Public Welcome
URL:https://westbrookfield.org/event/commission-meeting-3/
LOCATION:Town Hall\, West Brookfield\, MA\, 01585\, United States
CATEGORIES:Regular Meetings
END:VEVENT
BEGIN:VEVENT
DTSTART;TZID=America/New_York:20191007T190000
DTEND;TZID=America/New_York:20191007T203000
DTSTAMP:20260421T214544
CREATED:20190622T202243Z
LAST-MODIFIED:20190910T121429Z
UID:2015-1570474800-1570480200@westbrookfield.org
SUMMARY:Commission Meeting
DESCRIPTION:Public Welcome
URL:https://westbrookfield.org/event/commission-meeting-2/
LOCATION:Town Hall\, West Brookfield\, MA\, 01585\, United States
END:VEVENT
END:VCALENDAR